BEGIN:VCALENDAR
VERSION:2.0
PRODID:-// - ECPv6.15.20//NONSGML v1.0//EN
CALSCALE:GREGORIAN
METHOD:PUBLISH
X-ORIGINAL-URL:https://houstonbusinessdevelopmentinc.org
X-WR-CALDESC:Events for 
REFRESH-INTERVAL;VALUE=DURATION:PT1H
X-Robots-Tag:noindex
X-PUBLISHED-TTL:PT1H
BEGIN:VTIMEZONE
TZID:UTC
BEGIN:STANDARD
TZOFFSETFROM:+0000
TZOFFSETTO:+0000
TZNAME:UTC
DTSTART:20230101T000000
END:STANDARD
END:VTIMEZONE
BEGIN:VEVENT
DTSTART;TZID=UTC:20241202T080000
DTEND;TZID=UTC:20241202T233000
DTSTAMP:20260422T125537
CREATED:20241119T223903Z
LAST-MODIFIED:20241119T223903Z
UID:763-1733126400-1733182200@houstonbusinessdevelopmentinc.org
SUMMARY:Report #5 Final Project Report
DESCRIPTION:The Final Report for this project is Due!
URL:https://houstonbusinessdevelopmentinc.org/event/report-5-final-project-report/
LOCATION:Univerisity of Houston-Downtown\, 1 Main St\, Houston\, 77002\, United States
END:VEVENT
BEGIN:VEVENT
DTSTART;TZID=UTC:20241122T080000
DTEND;TZID=UTC:20241122T233000
DTSTAMP:20260422T125537
CREATED:20241119T223647Z
LAST-MODIFIED:20241119T223647Z
UID:759-1732262400-1732318200@houstonbusinessdevelopmentinc.org
SUMMARY:Report #4 User Study Due
DESCRIPTION:Team 1 has a report due this Friday!
URL:https://houstonbusinessdevelopmentinc.org/event/report-4-user-study-due/
LOCATION:Univerisity of Houston-Downtown\, 1 Main St\, Houston\, 77002\, United States
END:VEVENT
BEGIN:VEVENT
DTSTART;VALUE=DATE:20241108
DTEND;VALUE=DATE:20241109
DTSTAMP:20260422T125537
CREATED:20241031T032937Z
LAST-MODIFIED:20241031T032937Z
UID:179-1731024000-1731110399@houstonbusinessdevelopmentinc.org
SUMMARY:Website Goes Live
DESCRIPTION:We look forward to going live soon!
URL:https://houstonbusinessdevelopmentinc.org/event/website-goes-live/
LOCATION:HBDI\, 5330 Griggs Rd\, Houston\, TX\, 77021\, United States
END:VEVENT
BEGIN:VEVENT
DTSTART;VALUE=DATE:20241106
DTEND;VALUE=DATE:20241107
DTSTAMP:20260422T125537
CREATED:20241105T162224Z
LAST-MODIFIED:20241105T162224Z
UID:199-1730851200-1730937599@houstonbusinessdevelopmentinc.org
SUMMARY:Sample Event Title
DESCRIPTION:Hi Charles\, this is to demonstrate an event for you on the new webpage!
URL:https://houstonbusinessdevelopmentinc.org/event/sample-event-title/
LOCATION:HBDI\, 5330 Griggs Rd\, Houston\, TX\, 77021\, United States
END:VEVENT
BEGIN:VEVENT
DTSTART;VALUE=DATE:20241101
DTEND;VALUE=DATE:20241102
DTSTAMP:20260422T125537
CREATED:20241031T043255Z
LAST-MODIFIED:20241031T043255Z
UID:195-1730419200-1730505599@houstonbusinessdevelopmentinc.org
SUMMARY:Collin goes to Disney World
DESCRIPTION:He won the superbowl
URL:https://houstonbusinessdevelopmentinc.org/event/collin-goes-to-disney-world/
END:VEVENT
END:VCALENDAR